BEGIN:VCALENDAR
VERSION:2.0
PRODID:-//Down By Riverside - ECPv6.15.20//NONSGML v1.0//EN
CALSCALE:GREGORIAN
METHOD:PUBLISH
X-ORIGINAL-URL:https://downbyriverside.org
X-WR-CALDESC:Events for Down By Riverside
REFRESH-INTERVAL;VALUE=DURATION:PT1H
X-Robots-Tag:noindex
X-PUBLISHED-TTL:PT1H
BEGIN:VTIMEZONE
TZID:America/New_York
BEGIN:DAYLIGHT
TZOFFSETFROM:-0500
TZOFFSETTO:-0400
TZNAME:EDT
DTSTART:20240310T070000
END:DAYLIGHT
BEGIN:STANDARD
TZOFFSETFROM:-0400
TZOFFSETTO:-0500
TZNAME:EST
DTSTART:20241103T060000
END:STANDARD
BEGIN:DAYLIGHT
TZOFFSETFROM:-0500
TZOFFSETTO:-0400
TZNAME:EDT
DTSTART:20250309T070000
END:DAYLIGHT
BEGIN:STANDARD
TZOFFSETFROM:-0400
TZOFFSETTO:-0500
TZNAME:EST
DTSTART:20251102T060000
END:STANDARD
BEGIN:DAYLIGHT
TZOFFSETFROM:-0500
TZOFFSETTO:-0400
TZNAME:EDT
DTSTART:20260308T070000
END:DAYLIGHT
BEGIN:STANDARD
TZOFFSETFROM:-0400
TZOFFSETTO:-0500
TZNAME:EST
DTSTART:20261101T060000
END:STANDARD
END:VTIMEZONE
BEGIN:VEVENT
DTSTART;TZID=America/New_York:20250906T180000
DTEND;TZID=America/New_York:20250906T203000
DTSTAMP:20260424T000621
CREATED:20250727T193458Z
LAST-MODIFIED:20250730T211227Z
UID:10000111-1757181600-1757190600@downbyriverside.org
SUMMARY:The Neighborhood Kids: Old School Conscious Hip Hop
DESCRIPTION:The Neighborhood Kids have been exploding on Instagram in the wake of the new administration in Washington\, serving as young and formidable leaders of the resistance. Performing at Tom Morello’s Defend LA concert with Morello\, B Real of Cyprus Hill\, and Pussy Riot\, the trio has arrived on the protest music stage of Los Angeles. The group is co-fronted by Verde\, Amon the MC with DJ JG providing the foundation of beats and scratching. \nTheir mission is bold yet simple: to use hip-hop as a tool for healing\, connection\, and radical change. Their music tackles issues such as women’s rights\, police reform\, addiction\, and immigration—but more than that\, it speaks to those who feel unseen. \n \n			\n				\n				\n				\n				\n				\n			\n			\n				\n				\n				\n				\n			\n				\n				\n			\nShare this:\n				Share on Facebook (Opens in new window)\n				Facebook\n			\n				Share on Bluesky (Opens in new window)\n				Bluesky\n			\n				Email a link to a friend (Opens in new window)\n				Email
URL:https://downbyriverside.org/event/the-neighborhood-kids-old-school-conscious-hip-hop/
LOCATION:Venue: Arts Collaborative Medford\, 162 Mystic Avenue\, Medford\, MA\, 02155\, United States
ATTACH;FMTTYPE=image/webp:https://downbyriverside.org/wp-content/uploads/2025/07/TNK-16x9-1-scaled.webp
END:VEVENT
END:VCALENDAR