BEGIN:VCALENDAR
VERSION:2.0
PRODID:-//Down By Riverside - ECPv6.15.20//NONSGML v1.0//EN
CALSCALE:GREGORIAN
METHOD:PUBLISH
X-ORIGINAL-URL:https://downbyriverside.org
X-WR-CALDESC:Events for Down By Riverside
REFRESH-INTERVAL;VALUE=DURATION:PT1H
X-Robots-Tag:noindex
X-PUBLISHED-TTL:PT1H
BEGIN:VTIMEZONE
TZID:America/New_York
BEGIN:DAYLIGHT
TZOFFSETFROM:-0500
TZOFFSETTO:-0400
TZNAME:EDT
DTSTART:20250309T070000
END:DAYLIGHT
BEGIN:STANDARD
TZOFFSETFROM:-0400
TZOFFSETTO:-0500
TZNAME:EST
DTSTART:20251102T060000
END:STANDARD
BEGIN:DAYLIGHT
TZOFFSETFROM:-0500
TZOFFSETTO:-0400
TZNAME:EDT
DTSTART:20260308T070000
END:DAYLIGHT
BEGIN:STANDARD
TZOFFSETFROM:-0400
TZOFFSETTO:-0500
TZNAME:EST
DTSTART:20261101T060000
END:STANDARD
BEGIN:DAYLIGHT
TZOFFSETFROM:-0500
TZOFFSETTO:-0400
TZNAME:EDT
DTSTART:20270314T070000
END:DAYLIGHT
BEGIN:STANDARD
TZOFFSETFROM:-0400
TZOFFSETTO:-0500
TZNAME:EST
DTSTART:20271107T060000
END:STANDARD
END:VTIMEZONE
BEGIN:VEVENT
DTSTART;TZID=America/New_York:20260124T183000
DTEND;TZID=America/New_York:20260124T210000
DTSTAMP:20260423T182523
CREATED:20260107T191600Z
LAST-MODIFIED:20260122T155558Z
UID:10000427-1769279400-1769288400@downbyriverside.org
SUMMARY:GONG  & VOICE: Hendrik Gideonse and Jonathan Gramling
DESCRIPTION:Down By Riverside presents a special sound bath concert blending traditional meditative music with African American vocal performance. Led by Hendrik Gideonse and Jonathan Gramling\, this concert is designed to elicit a meditative response in a spirit-healing musical ritual. \nIf you would like to lie down\, please bring yoga mats and/or blankets. There is limited space on carpeting and also chairs available. Tickets are limited due to space. \n6:30 PM – 7:00 PM\nDoors open. \nParticipants can get in the space and find a space to lie down or sit. This is a good time to become accustomed to the space and relax before the sound bath. \n\n7:00 PM – 7:15 PM\nOpening and Introduction \nIntroductions\, discussion and breath work before the music starts \n\n7:15 PM – 8:30 PM\nMusic \nMusic starts and continues until 8:30. Most participants with be lying down and listening with their eyes clothed. Some participants will sit and watch. \n\n\n\nShare this:\n				Share on Facebook (Opens in new window)\n				Facebook\n			\n				Share on Bluesky (Opens in new window)\n				Bluesky\n			\n				Email a link to a friend (Opens in new window)\n				Email
URL:https://downbyriverside.org/event/gong-voice-hendrik-gideonse-and-jonathan-gramling/
LOCATION:Venue: Arts Collaborative Medford\, 162 Mystic Avenue\, Medford\, MA\, 02155\, United States
CATEGORIES:Live Music,Sound Bath
ATTACH;FMTTYPE=image/png:https://downbyriverside.org/wp-content/uploads/2026/01/Gong-and-Voice-1x1-1.png
ORGANIZER;CN="Down By Riverside%2C Inc":MAILTO:info@downbyriverside.org
END:VEVENT
END:VCALENDAR