BEGIN:VCALENDAR
VERSION:2.0
PRODID:-//Down By Riverside - ECPv6.15.20//NONSGML v1.0//EN
CALSCALE:GREGORIAN
METHOD:PUBLISH
X-WR-CALNAME:Down By Riverside
X-ORIGINAL-URL:https://downbyriverside.org
X-WR-CALDESC:Events for Down By Riverside
REFRESH-INTERVAL;VALUE=DURATION:PT1H
X-Robots-Tag:noindex
X-PUBLISHED-TTL:PT1H
BEGIN:VTIMEZONE
TZID:America/New_York
BEGIN:DAYLIGHT
TZOFFSETFROM:-0500
TZOFFSETTO:-0400
TZNAME:EDT
DTSTART:20240310T070000
END:DAYLIGHT
BEGIN:STANDARD
TZOFFSETFROM:-0400
TZOFFSETTO:-0500
TZNAME:EST
DTSTART:20241103T060000
END:STANDARD
BEGIN:DAYLIGHT
TZOFFSETFROM:-0500
TZOFFSETTO:-0400
TZNAME:EDT
DTSTART:20250309T070000
END:DAYLIGHT
BEGIN:STANDARD
TZOFFSETFROM:-0400
TZOFFSETTO:-0500
TZNAME:EST
DTSTART:20251102T060000
END:STANDARD
BEGIN:DAYLIGHT
TZOFFSETFROM:-0500
TZOFFSETTO:-0400
TZNAME:EDT
DTSTART:20260308T070000
END:DAYLIGHT
BEGIN:STANDARD
TZOFFSETFROM:-0400
TZOFFSETTO:-0500
TZNAME:EST
DTSTART:20261101T060000
END:STANDARD
END:VTIMEZONE
BEGIN:VEVENT
DTSTART;TZID=America/New_York:20251108T180000
DTEND;TZID=America/New_York:20251108T203000
DTSTAMP:20260424T001626
CREATED:20250913T154551Z
LAST-MODIFIED:20250916T201348Z
UID:10000113-1762624800-1762633800@downbyriverside.org
SUMMARY:Muddy Ruckus
DESCRIPTION:Muddy Ruckus is a “darkly inventive” rock duo according to the New York Music Daily. Guitarist Ryan Flaherty and drummer Erika Stahl of Portland\, Maine play a grungy style of railroad indie punk blues. This stripped-down power-duo blends rootsy guitar and edgy percussion on a suitcase drum kit\, and is known for a full rock band sound. \nIn the spring of 2023 the band released their 4th full length album\, Vacationland\, featuring tracks with legendary blues harmonicist James Montgomery and low-rock saxophonist Dana Colley of the band\, Morphine. The album is packed with 14 red hot tracks that blend psychedelic rock\, punk blues and fiery lyrics into a sound that’s uniquely Muddy Ruckus. \nDoors are at 6 PM\, Music starts at 7 PM. \n			\n				\n				\n				\n				\n				\n			\n			\n				\n				\n				\n				\n			\n				\n				\n			\nShare this:\n				Share on Facebook (Opens in new window)\n				Facebook\n			\n				Share on Bluesky (Opens in new window)\n				Bluesky\n			\n				Email a link to a friend (Opens in new window)\n				Email
URL:https://downbyriverside.org/event/muddy-ruckus/
LOCATION:Venue: Arts Collaborative Medford\, 162 Mystic Avenue\, Medford\, MA\, 02155\, United States
CATEGORIES:Blues,Live Music
ATTACH;FMTTYPE=image/jpeg:https://downbyriverside.org/wp-content/uploads/2025/09/Muddy-Ruckus_big-16x9-1.jpg
ORGANIZER;CN="Down By Riverside%2C Inc":MAILTO:info@downbyriverside.org
END:VEVENT
END:VCALENDAR