BEGIN:VCALENDAR
VERSION:2.0
PRODID:-//Down By Riverside - ECPv6.15.20//NONSGML v1.0//EN
CALSCALE:GREGORIAN
METHOD:PUBLISH
X-ORIGINAL-URL:https://downbyriverside.org
X-WR-CALDESC:Events for Down By Riverside
REFRESH-INTERVAL;VALUE=DURATION:PT1H
X-Robots-Tag:noindex
X-PUBLISHED-TTL:PT1H
BEGIN:VTIMEZONE
TZID:America/New_York
BEGIN:DAYLIGHT
TZOFFSETFROM:-0500
TZOFFSETTO:-0400
TZNAME:EDT
DTSTART:20250309T070000
END:DAYLIGHT
BEGIN:STANDARD
TZOFFSETFROM:-0400
TZOFFSETTO:-0500
TZNAME:EST
DTSTART:20251102T060000
END:STANDARD
BEGIN:DAYLIGHT
TZOFFSETFROM:-0500
TZOFFSETTO:-0400
TZNAME:EDT
DTSTART:20260308T070000
END:DAYLIGHT
BEGIN:STANDARD
TZOFFSETFROM:-0400
TZOFFSETTO:-0500
TZNAME:EST
DTSTART:20261101T060000
END:STANDARD
BEGIN:DAYLIGHT
TZOFFSETFROM:-0500
TZOFFSETTO:-0400
TZNAME:EDT
DTSTART:20270314T070000
END:DAYLIGHT
BEGIN:STANDARD
TZOFFSETFROM:-0400
TZOFFSETTO:-0500
TZNAME:EST
DTSTART:20271107T060000
END:STANDARD
END:VTIMEZONE
BEGIN:VEVENT
DTSTART;TZID=America/New_York:20260517T093000
DTEND;TZID=America/New_York:20260517T110000
DTSTAMP:20260423T165422
CREATED:20250727T192844Z
LAST-MODIFIED:20260312T193855Z
UID:10000431-1779010200-1779015600@downbyriverside.org
SUMMARY:3rd Sunday Sound Bath with Hendrik
DESCRIPTION:What’s a Soundbath?A soundbath is a performance of sound or music which is intended to relax\, to spiritually heal\, and to create a meditative state. Hendrik will play gong and singing bowls for this program. Often the sounds are long\, deep sustained tones and harmonic resonances that happen higher above droning fundamental tones. The sound serves as a focal point for meditation. Instead of trying to focus on nothing or on the breath\, the participant concentrates on the sound as it changes and develops. \nWhat to Expect:Please bring a yoga mat or meditation cushion with you. Several people have also brought blankets and pillows. You will get the option to sit in a cushioned chair if desired. \nProgram FlowThere will be an introductory discussion where participants can check in with the group. Lately this has included discussions about stressors\, anxiety and depression. We will do some breathwork to relax a bit before the actual music. The soundbath will last about 60 minutes. After the bath\, we will also have time to discuss the experience\, check in with our community\, and plan how to support each other. \n			\n			\n				\n				\n				\n				\n				\n				\n				\n				\n				\n				\n			\n			\n				\n				\n				\n				\n			\n				\n				\n			\nShare this:\n				Share on Facebook (Opens in new window)\n				Facebook\n			\n				Share on Bluesky (Opens in new window)\n				Bluesky\n			\n				Email a link to a friend (Opens in new window)\n				Email
URL:https://downbyriverside.org/event/soundbath-with-hendrik-3/2026-05-17/
LOCATION:Venue: Arts Collaborative Medford\, 162 Mystic Avenue\, Medford\, MA\, 02155\, United States
CATEGORIES:Live Music,Sound Bath
ATTACH;FMTTYPE=image/jpeg:https://downbyriverside.org/wp-content/uploads/2025/01/bowl-and-gong-at-85.jpg
ORGANIZER;CN="Down By Riverside%2C Inc":MAILTO:info@downbyriverside.org
END:VEVENT
END:VCALENDAR