BEGIN:VCALENDAR
VERSION:2.0
PRODID:-//Down By Riverside - ECPv6.15.20//NONSGML v1.0//EN
CALSCALE:GREGORIAN
METHOD:PUBLISH
X-ORIGINAL-URL:https://downbyriverside.org
X-WR-CALDESC:Events for Down By Riverside
REFRESH-INTERVAL;VALUE=DURATION:PT1H
X-Robots-Tag:noindex
X-PUBLISHED-TTL:PT1H
BEGIN:VTIMEZONE
TZID:America/New_York
BEGIN:DAYLIGHT
TZOFFSETFROM:-0500
TZOFFSETTO:-0400
TZNAME:EDT
DTSTART:20240310T070000
END:DAYLIGHT
BEGIN:STANDARD
TZOFFSETFROM:-0400
TZOFFSETTO:-0500
TZNAME:EST
DTSTART:20241103T060000
END:STANDARD
BEGIN:DAYLIGHT
TZOFFSETFROM:-0500
TZOFFSETTO:-0400
TZNAME:EDT
DTSTART:20250309T070000
END:DAYLIGHT
BEGIN:STANDARD
TZOFFSETFROM:-0400
TZOFFSETTO:-0500
TZNAME:EST
DTSTART:20251102T060000
END:STANDARD
BEGIN:DAYLIGHT
TZOFFSETFROM:-0500
TZOFFSETTO:-0400
TZNAME:EDT
DTSTART:20260308T070000
END:DAYLIGHT
BEGIN:STANDARD
TZOFFSETFROM:-0400
TZOFFSETTO:-0500
TZNAME:EST
DTSTART:20261101T060000
END:STANDARD
END:VTIMEZONE
BEGIN:VEVENT
DTSTART;TZID=America/New_York:20250302T150000
DTEND;TZID=America/New_York:20250302T200000
DTSTAMP:20260423T195643
CREATED:20250101T225739Z
LAST-MODIFIED:20250219T165643Z
UID:10000002-1740927600-1740945600@downbyriverside.org
SUMMARY:Mardi Gras 2025 with Glen David Andrews!
DESCRIPTION:Come for the authentic Mardis Gras musical experience with the Prince of the Treme\, Glen David Andrews!\n\nPlease join us for an afternoon and early evening of music\, dancing\, authentic food\, delicious drinks and celebration at our concert featuring the Glen David Andrews Band! Let loose and immerse yourself in the NOLA atmosphere as we celebrate Mardis Gras 2025. \nThe event will be held at Arts Collaborative Medford at 162 Mystic Ave in Medford\, next to Atlas Liquors and in front of Theory Wellness Dispensary. Invite some friends and bring your dancing shoes. Get ready to experience the culture and Carnival energy of Mardis Gras! \n\n \nThe Revelry Food Truck will be serving up authentic New Orleans cuisine!\n \nTraditional Jazz ensemble\, The Dixie Cookbook\, will be performing the New Orleans jazz songbook at 4PM.\n			\n				\n				\n				\n				\n				\n\n\n\n\n			\n			\n				\n				\n				\n				\n			\n				\n				\n			\nShare this:\n				Share on Facebook (Opens in new window)\n				Facebook\n			\n				Share on Bluesky (Opens in new window)\n				Bluesky\n			\n				Email a link to a friend (Opens in new window)\n				Email
URL:https://downbyriverside.org/event/mardis-gras-party-with-glen-david-andrews/
LOCATION:Venue: Arts Collaborative Medford\, 162 Mystic Avenue\, Medford\, MA\, 02155\, United States
CATEGORIES:Live Music,NOLA Funk,Soul
ATTACH;FMTTYPE=image/jpeg:https://downbyriverside.org/wp-content/uploads/2024/12/facebook_1702062684992_7138968327916366096.jpg
ORGANIZER;CN="Down By Riverside%2C Inc":MAILTO:info@downbyriverside.org
END:VEVENT
END:VCALENDAR