BEGIN:VCALENDAR
VERSION:2.0
PRODID:-//Down By Riverside - ECPv6.15.20//NONSGML v1.0//EN
CALSCALE:GREGORIAN
METHOD:PUBLISH
X-ORIGINAL-URL:https://downbyriverside.org
X-WR-CALDESC:Events for Down By Riverside
REFRESH-INTERVAL;VALUE=DURATION:PT1H
X-Robots-Tag:noindex
X-PUBLISHED-TTL:PT1H
BEGIN:VTIMEZONE
TZID:America/New_York
BEGIN:DAYLIGHT
TZOFFSETFROM:-0500
TZOFFSETTO:-0400
TZNAME:EDT
DTSTART:20240310T070000
END:DAYLIGHT
BEGIN:STANDARD
TZOFFSETFROM:-0400
TZOFFSETTO:-0500
TZNAME:EST
DTSTART:20241103T060000
END:STANDARD
BEGIN:DAYLIGHT
TZOFFSETFROM:-0500
TZOFFSETTO:-0400
TZNAME:EDT
DTSTART:20250309T070000
END:DAYLIGHT
BEGIN:STANDARD
TZOFFSETFROM:-0400
TZOFFSETTO:-0500
TZNAME:EST
DTSTART:20251102T060000
END:STANDARD
BEGIN:DAYLIGHT
TZOFFSETFROM:-0500
TZOFFSETTO:-0400
TZNAME:EDT
DTSTART:20260308T070000
END:DAYLIGHT
BEGIN:STANDARD
TZOFFSETFROM:-0400
TZOFFSETTO:-0500
TZNAME:EST
DTSTART:20261101T060000
END:STANDARD
END:VTIMEZONE
BEGIN:VEVENT
DTSTART;TZID=America/New_York:20250126T150000
DTEND;TZID=America/New_York:20250126T163000
DTSTAMP:20260424T120618
CREATED:20250109T202330Z
LAST-MODIFIED:20250116T184550Z
UID:10000006-1737903600-1737909000@downbyriverside.org
SUMMARY:Soundbath & Meditation
DESCRIPTION:Hosted by Hendrik of Down By Riverside and Kathleen Willis of Dawa Entheogenic Services\nThese days many of us are feeling depressed\, anxious\, or isolated. The primary mission of Down By Riverside is to foster feelings of connectedness and community with music. The program will focus on staying present in the moment and creating time and space to relax. Hendrik will focus on the sounds of the sound bath\, while Kathleen Willis will focus on meditation and the spiritual practice of the event. \nWhat’s a Soundbath?A soundbath is a performance of sound or music which is intended to relax\, to spiritually heal\, and to create a meditative state. Hendrik will play gong and singing bowls for this program.. Often the sounds are long\, deep sustained tones and harmonic resonances that happen higher above the droning tones. The sound serves as a focal point for meditation. Instead of trying to focus on nothing or on the breath\, the participant concentrates on the sound as it changes and develops. The actual sound bath will last about 30-35 minutes. \nWhat to expect:Please bring a yoga mat or meditation cushion with you. You will also get the option to sit in a chair if desired or preferred. \nThere will be an introductory meditation before the sound bath. The actual sound bath will last about 30-35 minutes. An expressive arts integration will follow the sound bath. \nKathleen is a professional Interfaith Chaplain\, Certified Psychedelic -assisted spiritual care provider\, and author with Wisdom Publications. She is authorized to teach and share transmissions from the Tibetan Vajrayana Buddhist tradition by Khempo Migmar of the Sakya Institute for Tibetan Studies. \nShe will co-facilitate the sound bath lead by Hendrik. She will start with a short Tong Lin (giving&receiving) meditation practice and at the conclusion of the sonic experience lead a short expressive-arts integration she has created combining the Kapala Practice of Lama Tsultrim Allione and prompted writing exercises which will allow participants the opportunity to set intentions before as well as reflect on their experience after the sound bath to add further layers to the somatic healing. \nKathleen Willis is the Founder of the retreat center DAWAFields: the Sanctuary for Artistic\, Spiritual\, & Psychedelic-Integrative Somatic Healing Practices (www.dawafields.com) in Corinth VT. She also has a private practice office at ACM in Medford MA (www.DawaEntheo.com) DAWA Entheogenic Services combining Expressive-arts\, Psychedelic Assisted Integration consultation\, and Somatic Practices. \nHendrik Gideonse is the founder of Down By Riverside\, a non-profit focused on creating community with music\, potlucks and individual connections. \n			\n				\n				\n				\n				\n				        \n            Tickets & Donations\n        \n			\n				\n				\n				\n				\n				\n			\n			\n				\n				\n				\n				\n			\n				\n				\n			\nShare this:\n				Share on Facebook (Opens in new window)\n				Facebook\n			\n				Share on Bluesky (Opens in new window)\n				Bluesky\n			\n				Email a link to a friend (Opens in new window)\n				Email
URL:https://downbyriverside.org/event/soundbath-meditation/
LOCATION:Venue: Arts Collaborative Medford\, 162 Mystic Avenue\, Medford\, MA\, 02155\, United States
CATEGORIES:Live Music,Sound Bath
ATTACH;FMTTYPE=image/jpeg:https://downbyriverside.org/wp-content/uploads/2025/01/bowl-and-gong-at-85.jpg
ORGANIZER;CN="Down By Riverside%2C Inc":MAILTO:info@downbyriverside.org
END:VEVENT
END:VCALENDAR