BEGIN:VCALENDAR
VERSION:2.0
PRODID:-//Down By Riverside - ECPv6.15.20//NONSGML v1.0//EN
CALSCALE:GREGORIAN
METHOD:PUBLISH
X-WR-CALNAME:Down By Riverside
X-ORIGINAL-URL:https://downbyriverside.org
X-WR-CALDESC:Events for Down By Riverside
REFRESH-INTERVAL;VALUE=DURATION:PT1H
X-Robots-Tag:noindex
X-PUBLISHED-TTL:PT1H
BEGIN:VTIMEZONE
TZID:America/New_York
BEGIN:DAYLIGHT
TZOFFSETFROM:-0500
TZOFFSETTO:-0400
TZNAME:EDT
DTSTART:20240310T070000
END:DAYLIGHT
BEGIN:STANDARD
TZOFFSETFROM:-0400
TZOFFSETTO:-0500
TZNAME:EST
DTSTART:20241103T060000
END:STANDARD
BEGIN:DAYLIGHT
TZOFFSETFROM:-0500
TZOFFSETTO:-0400
TZNAME:EDT
DTSTART:20250309T070000
END:DAYLIGHT
BEGIN:STANDARD
TZOFFSETFROM:-0400
TZOFFSETTO:-0500
TZNAME:EST
DTSTART:20251102T060000
END:STANDARD
BEGIN:DAYLIGHT
TZOFFSETFROM:-0500
TZOFFSETTO:-0400
TZNAME:EDT
DTSTART:20260308T070000
END:DAYLIGHT
BEGIN:STANDARD
TZOFFSETFROM:-0400
TZOFFSETTO:-0500
TZNAME:EST
DTSTART:20261101T060000
END:STANDARD
END:VTIMEZONE
BEGIN:VEVENT
DTSTART;TZID=America/New_York:20250906T180000
DTEND;TZID=America/New_York:20250906T203000
DTSTAMP:20260423T223158
CREATED:20250727T193458Z
LAST-MODIFIED:20250730T211227Z
UID:10000111-1757181600-1757190600@downbyriverside.org
SUMMARY:The Neighborhood Kids: Old School Conscious Hip Hop
DESCRIPTION:The Neighborhood Kids have been exploding on Instagram in the wake of the new administration in Washington\, serving as young and formidable leaders of the resistance. Performing at Tom Morello’s Defend LA concert with Morello\, B Real of Cyprus Hill\, and Pussy Riot\, the trio has arrived on the protest music stage of Los Angeles. The group is co-fronted by Verde\, Amon the MC with DJ JG providing the foundation of beats and scratching. \nTheir mission is bold yet simple: to use hip-hop as a tool for healing\, connection\, and radical change. Their music tackles issues such as women’s rights\, police reform\, addiction\, and immigration—but more than that\, it speaks to those who feel unseen. \n \n			\n				\n				\n				\n				\n				\n			\n			\n				\n				\n				\n				\n			\n				\n				\n			\nShare this:\n				Share on Facebook (Opens in new window)\n				Facebook\n			\n				Share on Bluesky (Opens in new window)\n				Bluesky\n			\n				Email a link to a friend (Opens in new window)\n				Email
URL:https://downbyriverside.org/event/the-neighborhood-kids-old-school-conscious-hip-hop/
LOCATION:Venue: Arts Collaborative Medford\, 162 Mystic Avenue\, Medford\, MA\, 02155\, United States
ATTACH;FMTTYPE=image/webp:https://downbyriverside.org/wp-content/uploads/2025/07/TNK-16x9-1-scaled.webp
END:VEVENT
BEGIN:VEVENT
DTSTART;TZID=America/New_York:20250913T180000
DTEND;TZID=America/New_York:20250913T203000
DTSTAMP:20260423T223158
CREATED:20250727T193030Z
LAST-MODIFIED:20250730T212257Z
UID:10000110-1757786400-1757795400@downbyriverside.org
SUMMARY:Glen David Andrews Band: NOLA in New England
DESCRIPTION:Come join us for an amazing concert\, dancing\, dinner and drinks with the Glen David Andrews Band and the Revelry Food Truck. Glen David Andrews towers as one of the greatest New Orleans vocalists and trombonists of our time. His performances create a feeling of connection for all people and he commands one of the most inclusive experiences that Down By Riverside has ever witnessed in any venue. \nJoin us for an evening of music\, dancing\, authentic food\, delicious drinks and celebration at Arts Collaborative Medford at 162 Mystic Ave in Medford\, so make sure to mark your calendars and gather your friends for a day to remember. Get ready to experience the culture and Carnival energy of the Glen David Andrews Band on September 13 starting at 6PM. \n			\n				\n				\n				\n				\n				\n			\n			\n				\n				\n				\n				\n			\n				\n				\n			\nShare this:\n				Share on Facebook (Opens in new window)\n				Facebook\n			\n				Share on Bluesky (Opens in new window)\n				Bluesky\n			\n				Email a link to a friend (Opens in new window)\n				Email
URL:https://downbyriverside.org/event/glen-david-andrews-band-nola-in-new-england/
LOCATION:Venue: Arts Collaborative Medford\, 162 Mystic Avenue\, Medford\, MA\, 02155\, United States
ATTACH;FMTTYPE=image/jpeg:https://downbyriverside.org/wp-content/uploads/2024/12/facebook_1702062684992_7138968327916366096.jpg
END:VEVENT
BEGIN:VEVENT
DTSTART;TZID=America/New_York:20250920T180000
DTEND;TZID=America/New_York:20250920T210000
DTSTAMP:20260423T223158
CREATED:20250821T213749Z
LAST-MODIFIED:20250821T213808Z
UID:10000112-1758391200-1758402000@downbyriverside.org
SUMMARY:Professor Harp's Classic Blues & Rock 'n' Roll / Potluck
DESCRIPTION:Amazing Potluck Concert with Live Blues & Rock ‘n’ Roll with Boston’s Own:\nProfessor Harp\nAlthough born and raised as Hugh Holmes of Boston\, Mass.\, the emanations from his harmonica and vocals make it clear that Professor Harp has the blues of Texas and the whole wide Delta coursing through his veins. \nThe Professor was a rock ‘n’ roll drummer until ’69\, when the Boston blues revival and a sterling performance he caught of blues harmonica great George Allen ‘Harmonica’ Smith\, combined to lure him away from drums and into a full court press on the blues harp. “Undaunted!” he brags\, by the vicissitudes of his life as blues man\, front man\, every kind of man\, Professor Harp puts forth his commanding presence and exceptional talent\, night after night. \nPrimarily playing a sparse\, yet full-sounding brand of no-nonsense\, no-frills Texas style blues\, Professor Harp specializes in what he calls\, ‘roots music’. “It’s whatever makes me feel good and moves me\, so to speak.” Indeed it has evolved while continuing to move audiences for decades. \nUnder the influence of many diverse blues greats\, Professor Harp has developed a robust playing style. He often utilizes the Leslie rotating-speaker sound system to give his harp a Hammond organ timbre\, while he alternately and simultaneously employs the standard or traditional ‘electrified’ blues harp. The Professor tops this off by singing the blues with an infectious fervor\, supported at his strictest insistence by only top-flight musicians on guitar\, bass\, and drums. \n			\n				\n				\n				\n				\n				\n				\n			\n				\n				\n				\n				\n				\n			\n			\n				\n				\n				\n				\n			\n				\n				\n			\nShare this:\n				Share on Facebook (Opens in new window)\n				Facebook\n			\n				Share on Bluesky (Opens in new window)\n				Bluesky\n			\n				Email a link to a friend (Opens in new window)\n				Email
URL:https://downbyriverside.org/event/professor-harps-classic-blues-rock-n-roll-potluck/
LOCATION:Venue: Arts Collaborative Medford\, 162 Mystic Avenue\, Medford\, MA\, 02155\, United States
CATEGORIES:Blues,Live Music,Potluck
ATTACH;FMTTYPE=image/jpeg:https://downbyriverside.org/wp-content/uploads/2025/01/Promo-Pic-black-gold-dashiki-16x9-1.jpg
ORGANIZER;CN="Down By Riverside%2C Inc":MAILTO:info@downbyriverside.org
END:VEVENT
END:VCALENDAR